BEGIN:VCALENDAR
VERSION:2.0
PRODID:-//VML - ECPv6.8.1//NONSGML v1.0//EN
CALSCALE:GREGORIAN
METHOD:PUBLISH
X-WR-CALNAME:VML
X-ORIGINAL-URL:https://vmlnederland.nl
X-WR-CALDESC:Evenementen voor VML
REFRESH-INTERVAL;VALUE=DURATION:PT1H
X-Robots-Tag:noindex
X-PUBLISHED-TTL:PT1H
BEGIN:VTIMEZONE
TZID:Europe/Amsterdam
BEGIN:DAYLIGHT
TZOFFSETFROM:+0100
TZOFFSETTO:+0200
TZNAME:CEST
DTSTART:20250330T010000
END:DAYLIGHT
BEGIN:STANDARD
TZOFFSETFROM:+0200
TZOFFSETTO:+0100
TZNAME:CET
DTSTART:20251026T010000
END:STANDARD
END:VTIMEZONE
BEGIN:VEVENT
DTSTART;TZID=Europe/Amsterdam:20250125T093000
DTEND;TZID=Europe/Amsterdam:20250125T160000
DTSTAMP:20260424T215726
CREATED:20241210T103951Z
LAST-MODIFIED:20241210T103952Z
UID:9202-1737797400-1737820800@vmlnederland.nl
SUMMARY:Kennis- en inspiratiebijeenkomst 25 januari 2025 "Vitaal bewegen voor senioren sportleiders: Jij blijft toch ook soepel?"
DESCRIPTION:We nodigen je van harte uit voor een inspirerende bijeenkomst vol kennis\, praktijk en beweging\, speciaal voor sportleiders die met senioren werken.\nZet zaterdag 25 januari 2025 in je agenda en meld je op tijd aan! \nDatum: Zaterdag 25 januari 2025\nLocatie: Sportcentrum “De Camp” – Bosrand 15-17\, 3931 AP Woudenberg \nProgramma\n\n09.30 uur: Inloop met koffie/thee\n10.00 uur: Workshop 1 – Beweegprogramma “SOOPLE”\nPraktijk en verdieping naar aanleiding van de Webinar op 22 november\nmet Geert Geurken en Tom Brandon. Denk en doe Mee!\n12.00 uur: Gezonde lunch\n13.00 uur: Start Workshopronde 2\nCognitieve fitness \nDans met Dido\n14.30 uur: Wissel workshopronde\n16.00 uur: Afsluiting\n\n  \n   \nPraktische informatie \n\nKosten:\n\nLeden VML: € 50\,-\nNiet-leden: € 75\,-\n\n\nAanmelding:\nMeld je aan via deze volgende link. \nLet op: inschrijven kan tot 13 januari 2025.\nEr is plek voor maximaal 60 deelnemers\, vol = vol!\n\nWe hopen je te zien op deze inspirerende dag!\nOp de kennisbank\, onder bijeenkomsten\, is de Webinar en de presentatie van Tom Brandon en Geert Geurken van afgelopen november terug te zien.\nHet bestuur van VML Nederland wenst jullie alvast fijne kerstdagen en een gezond en gelukkig 2025! \nUitnodiging Kennis 25 januari 2025
URL:https://vmlnederland.nl/event/kennis-en-inspiratiebijeenkomst-25-januari-2025-vitaal-bewegen-voor-senioren-sportleiders-jij-blijft-toch-ook-soepel/
LOCATION:Sportcentrum De Camp\, Bosrand 15-17\, Woudenberg\, 3931 AP
END:VEVENT
END:VCALENDAR