BEGIN:VCALENDAR
VERSION:2.0
PRODID:-//VML - ECPv6.8.1//NONSGML v1.0//EN
CALSCALE:GREGORIAN
METHOD:PUBLISH
X-ORIGINAL-URL:https://vmlnederland.nl
X-WR-CALDESC:Evenementen voor VML
REFRESH-INTERVAL;VALUE=DURATION:PT1H
X-Robots-Tag:noindex
X-PUBLISHED-TTL:PT1H
BEGIN:VTIMEZONE
TZID:Europe/Amsterdam
BEGIN:DAYLIGHT
TZOFFSETFROM:+0100
TZOFFSETTO:+0200
TZNAME:CEST
DTSTART:20250330T010000
END:DAYLIGHT
BEGIN:STANDARD
TZOFFSETFROM:+0200
TZOFFSETTO:+0100
TZNAME:CET
DTSTART:20251026T010000
END:STANDARD
END:VTIMEZONE
BEGIN:VEVENT
DTSTART;TZID=Europe/Amsterdam:20251213T090000
DTEND;TZID=Europe/Amsterdam:20251213T153000
DTSTAMP:20260425T042655
CREATED:20251027T110747Z
LAST-MODIFIED:20251027T110748Z
UID:9299-1765616400-1765639800@vmlnederland.nl
SUMMARY:Dansfestijn
DESCRIPTION:
URL:https://vmlnederland.nl/event/dansfestijn/
LOCATION:Het Huis van Eemnes\, Noordersingel 4\, Eemnes
ATTACH;FMTTYPE=image/jpeg:https://vmlnederland.nl/wp-content/uploads/2025/10/flyer-dansdag-13-december-2025.jpg
END:VEVENT
END:VCALENDAR