BEGIN:VCALENDAR
VERSION:2.0
PRODID:-//VML - ECPv6.8.1//NONSGML v1.0//EN
CALSCALE:GREGORIAN
METHOD:PUBLISH
X-WR-CALNAME:VML
X-ORIGINAL-URL:https://vmlnederland.nl
X-WR-CALDESC:Evenementen voor VML
REFRESH-INTERVAL;VALUE=DURATION:PT1H
X-Robots-Tag:noindex
X-PUBLISHED-TTL:PT1H
BEGIN:VTIMEZONE
TZID:Europe/Amsterdam
BEGIN:DAYLIGHT
TZOFFSETFROM:+0100
TZOFFSETTO:+0200
TZNAME:CEST
DTSTART:20260329T010000
END:DAYLIGHT
BEGIN:STANDARD
TZOFFSETFROM:+0200
TZOFFSETTO:+0100
TZNAME:CET
DTSTART:20261025T010000
END:STANDARD
END:VTIMEZONE
BEGIN:VEVENT
DTSTART;TZID=Europe/Amsterdam:20260420T080000
DTEND;TZID=Europe/Amsterdam:20260420T170000
DTSTAMP:20260420T122956
CREATED:20260420T095843Z
LAST-MODIFIED:20260420T095843Z
UID:9322-1776672000-1776704400@vmlnederland.nl
SUMMARY:VML 30 jaar - Jubileum Tour
DESCRIPTION:VML 30 jaar – Jubileum Tour \nVML bestaat 30 jaar! Dat vieren we met een inspirerende Jubileum Tour vol ontmoetingen\, kennisdeling en terugblikken op 30 jaar VML. \nProgramma \n\n30 mei – AGORA Rucphen (Markt 2\, 4715 CL) regio Zuidwest Nederland Gastvrouwen: Conny de Vries & Ellen Breedeveld\n5 september – gastvrouw Marja Schnitger; regio noordoost Nederland\n12 september – gastvrouw Tilly van Bussel; regio zuidoost Nederland\n10 oktober – gastvrouw Mieke Regelink; regio Noord Nederland\n\nDeelname \n\n· Leden: gratis (met voorrang)\n· Niet-leden: €30 per bijeenkomst\n· Afmelding: €15\n· Leden: 1e bijeenkomst gratis\, max. 2 bijeenkomsten (2e deelname €25)\n\nGelijk inschrijven; vermeld datum \nBetalen; Klik hier\nVolledig programma volgt zsm. \nHoud de updates in de gaten! \nSamen vieren we 30 jaar VML!
URL:https://vmlnederland.nl/event/vml-30-jaar-jubileum-tour/
ATTACH;FMTTYPE=image/jpeg:https://vmlnederland.nl/wp-content/uploads/2026/04/VML-Jubileeum-Tour-promotieontwerp.jpg
END:VEVENT
END:VCALENDAR