BEGIN:VCALENDAR
VERSION:2.0
PRODID:-//VML - ECPv6.8.1//NONSGML v1.0//EN
CALSCALE:GREGORIAN
METHOD:PUBLISH
X-WR-CALNAME:VML
X-ORIGINAL-URL:https://vmlnederland.nl
X-WR-CALDESC:Evenementen voor VML
REFRESH-INTERVAL;VALUE=DURATION:PT1H
X-Robots-Tag:noindex
X-PUBLISHED-TTL:PT1H
BEGIN:VTIMEZONE
TZID:Europe/Amsterdam
BEGIN:DAYLIGHT
TZOFFSETFROM:+0100
TZOFFSETTO:+0200
TZNAME:CEST
DTSTART:20220327T010000
END:DAYLIGHT
BEGIN:STANDARD
TZOFFSETFROM:+0200
TZOFFSETTO:+0100
TZNAME:CET
DTSTART:20221030T010000
END:STANDARD
BEGIN:DAYLIGHT
TZOFFSETFROM:+0100
TZOFFSETTO:+0200
TZNAME:CEST
DTSTART:20230326T010000
END:DAYLIGHT
BEGIN:STANDARD
TZOFFSETFROM:+0200
TZOFFSETTO:+0100
TZNAME:CET
DTSTART:20231029T010000
END:STANDARD
TZID:UTC
BEGIN:STANDARD
TZOFFSETFROM:+0000
TZOFFSETTO:+0000
TZNAME:UTC
DTSTART:20220101T000000
END:STANDARD
END:VTIMEZONE
BEGIN:VEVENT
DTSTART;TZID=Europe/Amsterdam:20230415T100000
DTEND;TZID=Europe/Amsterdam:20230415T160000
DTSTAMP:20260425T132855
CREATED:20230224T105438Z
LAST-MODIFIED:20230323T150203Z
UID:3709-1681552800-1681574400@vmlnederland.nl
SUMMARY:Algemene Ledenvergadering 15 april 2023
DESCRIPTION:Aan of afmelden kan via deze link
URL:https://vmlnederland.nl/event/algemene-ledenvergadering-15-april-2023/
LOCATION:Hooglanderveen\, Disselplein 6\, Hooglanderveen\, 3829 MD\, Nederland
ATTACH;FMTTYPE=image/png:https://vmlnederland.nl/wp-content/uploads/2022/02/Een-subtitel-toevoegen-e1741700928783.png
END:VEVENT
BEGIN:VEVENT
DTSTART;TZID=Europe/Amsterdam:20230225T093000
DTEND;TZID=Europe/Amsterdam:20230225T150000
DTSTAMP:20260425T132855
CREATED:20221215T102513Z
LAST-MODIFIED:20221215T104033Z
UID:3540-1677317400-1677337200@vmlnederland.nl
SUMMARY:Inspiratiedag Dordrecht 25 februari 2023
DESCRIPTION:Inspiratiesessie Dordrecht 25 februari 2023\nZaterdag 25 februari 2023\nOptisport Dordrecht\nFanny-Blankers Koenweg 10\n3318 AX DORDRECHT \n Programma: \n09.30 uur inloop met koffie/thee \n10.00 uur: 1e workshopronde : DAJOFIT Bootcamp of\nBewegingsagoog Joël Kruisselbrink \n11.30 uur: 2e workshopronde: Wissel \n13.00 uur lunch \n13.30 uur 3e workshop ronde\nKeuze: A. Sport en Spel met Maik Wojtas óf\nB. Social Media training met Laura Mulder. \n15.00 uur einde \nBijdrage leden VML\, KNGU\, studenten  € 50\,–\nNiet-leden € 75\,– \nGeef je hier op voor deelname aan de inspiratiesessie \n  \n  \n 
URL:https://vmlnederland.nl/event/inspiratiedag-dordrecht-25-februari-2023/
ATTACH;FMTTYPE=image/jpeg:https://vmlnederland.nl/wp-content/uploads/2022/12/image00005-scaled-e1671100673500.jpeg
END:VEVENT
BEGIN:VEVENT
DTSTART;TZID=Europe/Amsterdam:20230114T100000
DTEND;TZID=Europe/Amsterdam:20230114T140000
DTSTAMP:20260425T132855
CREATED:20221222T133736Z
LAST-MODIFIED:20221222T134449Z
UID:3547-1673690400-1673704800@vmlnederland.nl
SUMMARY:Vereniging Lesgevers Meer Bewegen Noord-Holland organiseren een winter-workshopdag
DESCRIPTION:Wanneer: Zaterdag 14 januari 2023 (10.00-14.00 uur)\nWaar: Shelter Haarlem (Evangelische gemeenschap) – Eksterlaan 1\, 2026 XA Haarlem \nMet de auto: parkeer gratis bij de parkeergarage Winkelcentrum Marsmanplein (zit tegenover de Shelter) of parkeer op de Eksterlaan of in de buurt ervan.\nMet OV: buslijn 3\, 73 of combi van 385/3 komen uit bij bushalte Winkelcentrum Marsmanplein\, graag zelf even uitzoeken wat voor jou van toepassing is. \nHieronder nogmaals de twee 2 interessante/inspirerende workshops die we jullie aanbieden: \nBEWEGEN OP MUZIEK VANAF DE STOEL\nJoke van Diemen\, oorspronkelijk jazzdans docent\, geeft al jaren les op muziek. Sedert 2000 geeft ze als MBvo-docent ook zitgym waarbij diverse oefeningen gedaan worden op uitgetelde muziek!  Joke heeft alle oefeningen voor ons uitgeschreven met bijbehorende muziek. Absoluut een échte aanrader om deze workshop te komen volgen!! \nCOGNITIEVE FITNESS\nHenny Aafes en Anja Ulkeman willen graag hun ervaringen met ons delen. Zij zijn opgeleid tot cognitieve fitness docent en nemen ons mee in de wonderlijke wereld die brein en lichaam laten samenwerken. Henny en Anja laten onze hersenen flink kraken waarna wij zelf ook weer tot goede ideeën kunnen komen. Een must om hierbij te zijn!! \nProgramma indeling (globaal):\n09.30 – 10.00 uur      Inloop\n10.00 – 11.30 uur      Workshop 1\n11.30 – 12.00 uur      Koffie- en netwerk pauze (neem zelf je broodje mee)\n12.00 – 13.30 uur      Workshop 2\n13.30 – 14.00 uur      Gezellig samenzijn voor wie dat nog wil \nAan-afmelden via: vlmbnh@gmail.com\nGraag vóór maandag 9 januari 2023 !!!!!\nNiet-leden zijn ook welkom !! Mocht je iemand kennen die interesse heeft\, laat het ons dan weten! De bijdrage voor niet-leden is dan 12\,50 euro.
URL:https://vmlnederland.nl/event/vereniging-lesgevers-meer-bewegen-noord-holland-organiseren-een-winter-workshopdag/
LOCATION:Shelter Haarlem\, Eksterlaan 1\, Haarlem\, 2026XA\, Nederland
ORGANIZER;CN="Vereniging Lesgevers Meer Bewegen Noord-Holland":MAILTO:vlmbnh@gmail.com
END:VEVENT
BEGIN:VEVENT
DTSTART;TZID=UTC:20221105T093000
DTEND;TZID=UTC:20221105T150000
DTSTAMP:20260425T132855
CREATED:20220930T140013Z
LAST-MODIFIED:20221024T074959Z
UID:3416-1667640600-1667660400@vmlnederland.nl
SUMMARY:Inspiratiedag Zwolle | zaterdag 5 november 2022
DESCRIPTION:Meld je hier aan\nZaterdag 5 november 2022\nHogeschool Windeheim\nCampus 2\, 8017 CA Zwolle \nProgramma:\n09.30 uur inloop met koffie/thee\n10.00 uur: 1e workshopronde – Sportief wandelen en Mindfit\n11.30 uur: 2e workshopronde – Wissel\n13.00 uur lunch\n13.30 uur 3e workshop ronde – Keuze uit A: Dance-Connects of B: Social media training.\n15.00 uur einde \nBijdrage leden VML\, KNGU\, Wijz €30\,-\nNiet-leden €60\,-
URL:https://vmlnederland.nl/event/inspiratiedag-zwolle-zaterdag-5-november-2022/
LOCATION:Hogeschool Windeheim\, Campus 2\, Zwolle
END:VEVENT
BEGIN:VEVENT
DTSTART;VALUE=DATE:20220521
DTEND;VALUE=DATE:20220522
DTSTAMP:20260425T132855
CREATED:20220521T070734Z
LAST-MODIFIED:20220930T142020Z
UID:2345-1653091200-1653177599@vmlnederland.nl
SUMMARY:Inspiratiedag 21 mei 2022
DESCRIPTION:Meer informatie over het evenement\, waaronder het programma kun je hier vinden. \nJullie hebben aangegeven behoefte te hebben aan een bijscholingsdag met veel lesinspiratie. Zeker in de corona periode waarin je als lesgever in allerlei bochten moest wringen om een goede\, leuke en verantwoorde les te kunnen geven! \nIn samenwerking met Sportservice Veenendaal is een programma gemaakt met daarin diverse inspirerende workshops en Halen en Brengen: collega’s en leden geven een les deel aan elkaar van maximaal 20 minuten.\nDe locatie is in Veenendaal\, Sporthal Oost-Ontmoetingshuis\, waar vorig jaar het congres heeft plaatsgevonden. \nGlobaal ziet het programma er als volgt uit: ’s morgens keuze uit 2 van de 3 workshops: Spel en Sport\, dans\, bewegen op muziek op de stoel.\n’s middags na de lunch: halen en brengen\, inspiratie door en met collega’s.\nJe kan je alvast opgeven bij vmlclaudia@gmail.com\, ook als je een stukje les wilt geven! \nDe kosten zijn € 30\,00 voor leden € 60\,00 voor niet leden\, incl. koffie/thee/lunch. Meer informatie volgt op de website.
URL:https://vmlnederland.nl/event/21-mei-inspiratiedag/
ATTACH;FMTTYPE=image/webp:https://vmlnederland.nl/wp-content/uploads/2022/03/depositphotos_42922767-stock-photo-senior-woman-with-people-exercising-e1664547605975.webp
END:VEVENT
BEGIN:VEVENT
DTSTART;VALUE=DATE:20220520
DTEND;VALUE=DATE:20220521
DTSTAMP:20260425T132855
CREATED:20220502T121239Z
LAST-MODIFIED:20220607T124428Z
UID:2891-1653004800-1653091199@vmlnederland.nl
SUMMARY:Nationale Balkon Beweegdag 2022
DESCRIPTION:Op vrijdag 20 mei 2022 organiseert het Nationaal Ouderenfonds de derde Nationale Balkon Beweegdag! \n  \n 
URL:https://vmlnederland.nl/event/nationale-balkon-beweegdag-2022/
ATTACH;FMTTYPE=image/jpeg:https://vmlnederland.nl/wp-content/uploads/2022/05/balkonbeweegdag.jpg
END:VEVENT
BEGIN:VEVENT
DTSTART;TZID=UTC:20220516T100000
DTEND;TZID=UTC:20220516T153000
DTSTAMP:20260425T132855
CREATED:20220502T122809Z
LAST-MODIFIED:20220607T124459Z
UID:2898-1652695200-1652715000@vmlnederland.nl
SUMMARY:16 mei 2022 Congres:  Grenzeloos ouder worden door samen te bewegen
DESCRIPTION:Het Ouderen Fonds organiseert een congres op 16 mei a.s. \nIn de bijlage vind je de gegevens en het boeiende programma . \nJe kan gratis deelnemen aan dit congres door je als lid van VML aan te melden via de mail:vitaliteitspelen@ouderenfonds.nl \nTot ziens op 16 mei
URL:https://vmlnederland.nl/event/16-mei-2022-congres-grenzeloos-ouder-worden-door-samen-te-bewegen/
ATTACH;FMTTYPE=image/png:https://vmlnederland.nl/wp-content/uploads/2022/05/Een-subtitel-toevoegen-1-e1651494865381.png
END:VEVENT
BEGIN:VEVENT
DTSTART;TZID=Europe/Amsterdam:20220422T150000
DTEND;TZID=Europe/Amsterdam:20220422T170000
DTSTAMP:20260425T132855
CREATED:20220420T065106Z
LAST-MODIFIED:20220607T124522Z
UID:2334-1650639600-1650646800@vmlnederland.nl
SUMMARY:Algemene Ledenvergadering 22 april 2022
DESCRIPTION:Ondanks dat er geen aftredende bestuursleden zijn\, kun je je tot 10 maart kandidaat stellen als bestuurslid. Kom ons enthousiaste team versterken! \nWe hebben Marjolein Kuit bereid gevonden om ons te vertellen over de interventie- Stevig op de pedalen. Marjolein is fysiotherapeut en expert op het gebied van valpreventie. Zij heeft voor het landelijk fietsprogramma Doortrappen dit onderdeel ontwikkeld. Zij zal vertellen over deze interventie\, maar ook zeker praktische tips en ideeën geven over hoe je dit in je les kunt integreren. \nMeld je aan
URL:https://vmlnederland.nl/event/alv/
ATTACH;FMTTYPE=image/png:https://vmlnederland.nl/wp-content/uploads/2022/02/Een-subtitel-toevoegen-e1741700928783.png
END:VEVENT
END:VCALENDAR