BEGIN:VCALENDAR
VERSION:2.0
PRODID:-//VML - ECPv6.8.1//NONSGML v1.0//EN
CALSCALE:GREGORIAN
METHOD:PUBLISH
X-WR-CALNAME:VML
X-ORIGINAL-URL:https://vmlnederland.nl
X-WR-CALDESC:Evenementen voor VML
REFRESH-INTERVAL;VALUE=DURATION:PT1H
X-Robots-Tag:noindex
X-PUBLISHED-TTL:PT1H
BEGIN:VTIMEZONE
TZID:Europe/Amsterdam
BEGIN:DAYLIGHT
TZOFFSETFROM:+0100
TZOFFSETTO:+0200
TZNAME:CEST
DTSTART:20220327T010000
END:DAYLIGHT
BEGIN:STANDARD
TZOFFSETFROM:+0200
TZOFFSETTO:+0100
TZNAME:CET
DTSTART:20221030T010000
END:STANDARD
END:VTIMEZONE
BEGIN:VEVENT
DTSTART;TZID=Europe/Amsterdam:20220422T150000
DTEND;TZID=Europe/Amsterdam:20220422T170000
DTSTAMP:20260425T171749
CREATED:20220420T065106Z
LAST-MODIFIED:20220607T124522Z
UID:2334-1650639600-1650646800@vmlnederland.nl
SUMMARY:Algemene Ledenvergadering 22 april 2022
DESCRIPTION:Ondanks dat er geen aftredende bestuursleden zijn\, kun je je tot 10 maart kandidaat stellen als bestuurslid. Kom ons enthousiaste team versterken! \nWe hebben Marjolein Kuit bereid gevonden om ons te vertellen over de interventie- Stevig op de pedalen. Marjolein is fysiotherapeut en expert op het gebied van valpreventie. Zij heeft voor het landelijk fietsprogramma Doortrappen dit onderdeel ontwikkeld. Zij zal vertellen over deze interventie\, maar ook zeker praktische tips en ideeën geven over hoe je dit in je les kunt integreren. \nMeld je aan
URL:https://vmlnederland.nl/event/alv/
ATTACH;FMTTYPE=image/png:https://vmlnederland.nl/wp-content/uploads/2022/02/Een-subtitel-toevoegen-e1741700928783.png
END:VEVENT
END:VCALENDAR