BEGIN:VCALENDAR
VERSION:2.0
PRODID:-//VML - ECPv6.8.1//NONSGML v1.0//EN
CALSCALE:GREGORIAN
METHOD:PUBLISH
X-ORIGINAL-URL:https://vmlnederland.nl
X-WR-CALDESC:Evenementen voor VML
REFRESH-INTERVAL;VALUE=DURATION:PT1H
X-Robots-Tag:noindex
X-PUBLISHED-TTL:PT1H
BEGIN:VTIMEZONE
TZID:Europe/Amsterdam
BEGIN:DAYLIGHT
TZOFFSETFROM:+0100
TZOFFSETTO:+0200
TZNAME:CEST
DTSTART:20240331T010000
END:DAYLIGHT
BEGIN:STANDARD
TZOFFSETFROM:+0200
TZOFFSETTO:+0100
TZNAME:CET
DTSTART:20241027T010000
END:STANDARD
END:VTIMEZONE
BEGIN:VEVENT
DTSTART;TZID=Europe/Amsterdam:20241109T080000
DTEND;TZID=Europe/Amsterdam:20241109T150000
DTSTAMP:20260424T180502
CREATED:20241015T145258Z
LAST-MODIFIED:20241106T121532Z
UID:8809-1731139200-1731164400@vmlnederland.nl
SUMMARY:Bijscholingsdag Seniorensport en MBvO
DESCRIPTION:De bijscholing is vol\, aanmelden is helaas niet meer mogelijk!\nDe landelijk vakvereniging VML Nederland en de regionale vakvereniging VLMB-Noord Holland organiseren gezamenlijk een bijscholingsdag Kennis en Inspiratie! Geef je beweeglessen aan senioren? Dan ben je van harte welkom! \nWanneer: Zaterdag 9 november 2024\nWaar: Sporthal Fanny Blankers Koen/Tijnes Restaurant\, Arnolduspark 3\, Hoofddorp\nKosten: € 75\,–\, VML-leden € 50\,- KNGU-leden € 50\,- VMLB-NH leden € 37\,50 \nProgramma:\n09.30 uur: inloop met koffie/thee (incl.) en opening 10.00 uur: plenair Obesitas/GLI/ consequenties in je les 11.00 uur: 1e workshopronde\, keuze uit Goldensports\, Dans of Ismakogie 12.30 uur: lunch (incl.) 13.30 uur: 2e workshopronde\, keuze uit Ismakogie\, Valpreventie of Beweegbingo 15.00 afsluiting \nBeschrijving Workshops:\n• Obesitas door Anja Lefeber. Anja is leefstijlcoach en actief in GLI en COOL projecten. Wat is obesitas? Hoe ontstaat het? Wat betekent het voor je gezondheid? Wat betekent het voor ons als lesgever??\n• Goldensports: Miou vertelt ons in het kort iets over het concept GoldenSports en neemt ons daarna mee naar buiten voor een voorbeeldles Spel en Sport.\n• Dans: Bewegen toegankelijk en plezierig te maken zit Marlies Landauer van MovesU in de genen. Door middel van diverse dansvormen op bekende muziek laat ze ervaren dat iedereen kan bewegen op muziek.\n• Ismakogie: Annemieke Carbo laat deze houdings- en bewegingsleer samensmelten met de methodiek van MBvO. Het leert ons bewust bewegen in het dagelijks leven en de kettingreacties hiervan te ervaren in ons lichaam.\n• Valpreventie in je les: Jos Kooijman geeft je beweeg les een ander accent zodat het gedachtegoed/methodiek van In Balans hierin terug te vinden is.\n• Beweegbingo: Mieke Regelink staat weer klaar met een feestelijke les met behulp van het door haar ontwikkelde beweegspel.
URL:https://vmlnederland.nl/event/bijscholingsdag-seniorensport-en-mbvo/
ATTACH;FMTTYPE=image/png:https://vmlnederland.nl/wp-content/uploads/2024/10/Bijscholingsdag-Seniorensport-en-MBvO-v2.png
END:VEVENT
BEGIN:VEVENT
DTSTART;TZID=Europe/Amsterdam:20241122T160000
DTEND;TZID=Europe/Amsterdam:20241122T173000
DTSTAMP:20260424T180502
CREATED:20241031T085634Z
LAST-MODIFIED:20241031T085635Z
UID:8829-1732291200-1732296600@vmlnederland.nl
SUMMARY:Webinar VML samen met Tom Branden en Geert Geurken 22 november 2024
DESCRIPTION:Op 22 november\, 16.00 uur – 17.30 uur\, kunnen jullie deelnemen aan een bijzonder interessant Webinar\, gegeven door sportarts Tom Branden in samenwerking met Geert Geurken strategisch adviseur sportbedrijf Arnhem. \nHet Webinar zal de volgende onderwerpen bevatten : \n• Wat zijn de laatste inzichten als het gaat om de invloed van sport en be-wegen op veroudering?\n• Het belang van segmenteren (leeftijd\, herkomst\, sociaal economische sta-tus en de gezondheidsvaardigheden);\n• Intensiteit van de lessen wat kan er en mag er? En waar moet je op letten als het gaat om blessures;\n• Use it or loose it… Het belang van diversiteit\, constante aanpassing van oefenstof in aanbod en vorm (beweegpuzzeltjes);\n• De vertaling van bovenstaande via het beweegconcept Soople: de vier pijlers van bewegen\, de 6 principes van lesgeven en (in mindere mate) de sociaalpsychologische kenmerken waar we mee rekening houden;\n• We leggen de inhoudelijke relatie met de Arnhemse aanpak Valpreventie;\n• Aansluitend 15 minuten gelegenheid tot het stellen van vragen.
URL:https://vmlnederland.nl/event/webinar-vml-samen-met-tom-branden-en-geert-geurken-22-november-2024/
END:VEVENT
END:VCALENDAR