BEGIN:VCALENDAR
VERSION:2.0
PRODID:-//VML - ECPv6.8.1//NONSGML v1.0//EN
CALSCALE:GREGORIAN
METHOD:PUBLISH
X-WR-CALNAME:VML
X-ORIGINAL-URL:https://vmlnederland.nl
X-WR-CALDESC:Evenementen voor VML
REFRESH-INTERVAL;VALUE=DURATION:PT1H
X-Robots-Tag:noindex
X-PUBLISHED-TTL:PT1H
BEGIN:VTIMEZONE
TZID:Europe/Amsterdam
BEGIN:DAYLIGHT
TZOFFSETFROM:+0100
TZOFFSETTO:+0200
TZNAME:CEST
DTSTART:20250330T010000
END:DAYLIGHT
BEGIN:STANDARD
TZOFFSETFROM:+0200
TZOFFSETTO:+0100
TZNAME:CET
DTSTART:20251026T010000
END:STANDARD
END:VTIMEZONE
BEGIN:VEVENT
DTSTART;TZID=Europe/Amsterdam:20250405T100000
DTEND;TZID=Europe/Amsterdam:20250405T151500
DTSTAMP:20260424T232724
CREATED:20250311T133334Z
LAST-MODIFIED:20250311T134855Z
UID:9252-1743847200-1743866100@vmlnederland.nl
SUMMARY:Algemene Ledenvergadering 2025
DESCRIPTION:Op zaterdag 5 april staat de Algemene Ledenvergadering gepland.\nDit jaar verwelkomen wij jullie graag in “Het huis van Eemnes” een ontmoetingsplek midden in de stad.\nNaast de huishoudelijke zaken staan er wederom twee inspirerende workshops op het programma.\nEen tipje van de sluier; ‘Dan laten wij hier een “ballonnetje” op en ook wij zullen creatief genieten van – beweging\, materiaal en muziek – kortom weer volop ideeën op doen’.
URL:https://vmlnederland.nl/event/algemene-ledenvergadering-2025/
LOCATION:Het Huis van Eemnes\, Noordersingel 4\, Eemnes
ATTACH;FMTTYPE=image/png:https://vmlnederland.nl/wp-content/uploads/2022/02/Een-subtitel-toevoegen-e1741700928783.png
END:VEVENT
END:VCALENDAR